BEGIN:VCALENDAR
VERSION:2.0
PRODID:-//wp-events-plugin.com//5.99912//EN
TZID:Europe/Berlin
X-WR-TIMEZONE:Europe/Berlin
BEGIN:VEVENT
UID:0-284@biberach.albverein.eu
DTSTART;TZID=Europe/Berlin:20260521T083000
DTEND;TZID=Europe/Berlin:20260521T183000
DTSTAMP:20260414T121340Z
URL:https://biberach.albverein.eu/events/wanderung-durch-das-naturschutzge
 biet-der-wernauer-seen/
SUMMARY:Wanderung durch das Naturschutzgebiet der Wernauer Seen
DESCRIPTION:21.05.2026 Durch das Naturschutzgebiet der Wernauer Seen
LOCATION:Bahnhof Biberach\, Bahnhof\, Biberach / Riß\, Deutschland\, 88400
 \, Deutschland
GEO:48.101831;9.793048
X-APPLE-STRUCTURED-LOCATION;VALUE=URI;X-ADDRESS=Bahnhof\, Biberach / Riß\,
  Deutschland\, 88400\, Deutschland;X-APPLE-RADIUS=100;X-TITLE=Bahnhof Bibe
 rach:geo:48.101831,9.793048
END:VEVENT
BEGIN:VTIMEZONE
TZID:Europe/Berlin
X-LIC-LOCATION:Europe/Berlin
BEGIN:DAYLIGHT
DTSTART:20260329T030000
TZOFFSETFROM:+0100
TZOFFSETTO:+0200
TZNAME:CEST
END:DAYLIGHT
END:VTIMEZONE
END:VCALENDAR