BEGIN:VCALENDAR
VERSION:2.0
PRODID:-//wp-events-plugin.com//5.99912//EN
TZID:Europe/Berlin
X-WR-TIMEZONE:Europe/Berlin
BEGIN:VEVENT
UID:0-283@biberach.albverein.eu
DTSTART;TZID=Europe/Berlin:20260519T133000
DTEND;TZID=Europe/Berlin:20260519T170000
DTSTAMP:20260414T121005Z
URL:https://biberach.albverein.eu/events/wanderung-bergerhausen-oberhoefen
 -mettenberg/
SUMMARY:Wanderung Bergerhausen-Oberhöfen-Mettenberg
DESCRIPTION:19.05.2026 Wanderung von Bergerhausen nach Oberhöfen und Mette
 nberg
LOCATION:Beim EDEKA an der Telawiallee im Talfeld\, Telawiallee 4 im Talfel
 d\, Biberach an der Riß\, Deutschland\, 88400\, Deutschland
GEO:48.102106;9.807549
X-APPLE-STRUCTURED-LOCATION;VALUE=URI;X-ADDRESS=Telawiallee 4 im Talfeld\, 
 Biberach an der Riß\, Deutschland\, 88400\, Deutschland;X-APPLE-RADIUS=10
 0;X-TITLE=Beim EDEKA an der Telawiallee im Talfeld:geo:48.102106,9.807549
END:VEVENT
BEGIN:VTIMEZONE
TZID:Europe/Berlin
X-LIC-LOCATION:Europe/Berlin
BEGIN:DAYLIGHT
DTSTART:20260329T030000
TZOFFSETFROM:+0100
TZOFFSETTO:+0200
TZNAME:CEST
END:DAYLIGHT
END:VTIMEZONE
END:VCALENDAR