BEGIN:VCALENDAR
VERSION:2.0
PRODID:-//wp-events-plugin.com//5.99912//EN
TZID:Europe/Berlin
X-WR-TIMEZONE:Europe/Berlin
BEGIN:VEVENT
UID:0-280@biberach.albverein.eu
DTSTART;TZID=Europe/Berlin:20260924T083000
DTEND;TZID=Europe/Berlin:20260924T190000
DTSTAMP:20260410T211839Z
URL:https://biberach.albverein.eu/events/seniorenausflug-am-24-09-2026/
SUMMARY:Seniorenausflug am 24.09.2026
DESCRIPTION:Ausflugsprogramm / Ausschreibung:\nSeniorenausflug 2026\n\nAnme
 ldeschluss wurde auf Ende April 2026 verlängert (10.04.2026)
LOCATION:Saudengasse Bushaltestelle\, Saudengasse Landratsamt\, Biberach an
  der Riß\, Deutschland\, 88400\, Deutschland
GEO:48.096266;9.792229
X-APPLE-STRUCTURED-LOCATION;VALUE=URI;X-ADDRESS=Saudengasse Landratsamt\, B
 iberach an der Riß\, Deutschland\, 88400\, Deutschland;X-APPLE-RADIUS=100
 ;X-TITLE=Saudengasse Bushaltestelle:geo:48.096266,9.792229
END:VEVENT
BEGIN:VTIMEZONE
TZID:Europe/Berlin
X-LIC-LOCATION:Europe/Berlin
BEGIN:DAYLIGHT
DTSTART:20260329T030000
TZOFFSETFROM:+0100
TZOFFSETTO:+0200
TZNAME:CEST
END:DAYLIGHT
END:VTIMEZONE
END:VCALENDAR