BEGIN:VCALENDAR
VERSION:2.0
PRODID:-//wp-events-plugin.com//5.99912//EN
TZID:Europe/Berlin
X-WR-TIMEZONE:Europe/Berlin
BEGIN:VEVENT
UID:0-285@biberach.albverein.eu
DTSTART;TZID=Europe/Berlin:20260528T170000
DTEND;TZID=Europe/Berlin:20260528T193000
DTSTAMP:20260414T121546Z
URL:https://biberach.albverein.eu/events/sav-stammtisch-der-ortsgruppe-bib
 erach-3/
SUMMARY:SAV-Stammtisch der Ortsgruppe Biberach
DESCRIPTION:
LOCATION:Wagners Schwarz Rößle\, Schrannenstraße 10\, Biberach an der Ri
 ß\, Deutschland\, 88400\, Deutschland
GEO:48.0972534;9.788108
X-APPLE-STRUCTURED-LOCATION;VALUE=URI;X-ADDRESS=Schrannenstraße 10\, Biber
 ach an der Riß\, Deutschland\, 88400\, Deutschland;X-APPLE-RADIUS=100;X-T
 ITLE=Wagners Schwarz Rößle:geo:48.0972534,9.788108
END:VEVENT
BEGIN:VTIMEZONE
TZID:Europe/Berlin
X-LIC-LOCATION:Europe/Berlin
BEGIN:DAYLIGHT
DTSTART:20260329T030000
TZOFFSETFROM:+0100
TZOFFSETTO:+0200
TZNAME:CEST
END:DAYLIGHT
END:VTIMEZONE
END:VCALENDAR