BEGIN:VCALENDAR
VERSION:2.0
PRODID:-//wp-events-plugin.com//5.99912//EN
TZID:Europe/Berlin
X-WR-TIMEZONE:Europe/Berlin
BEGIN:VEVENT
UID:0-281@biberach.albverein.eu
DTSTART;TZID=Europe/Berlin:20260508T140000
DTEND;TZID=Europe/Berlin:20260508T170000
DTSTAMP:20260414T120414Z
URL:https://biberach.albverein.eu/events/radlertreff-zu-den-wasserbueffeln
 -ca-30-35-km/
SUMMARY:Radlertreff - Zu den Wasserbüffeln - ca. 30 - 35 km
DESCRIPTION:
LOCATION:Dollinger Realschule\, Wilhelm-Leger-Straße 2\, Biberach an der R
 iß\, Deutschland\, 88400\, Deutschland
GEO:48.091918;9.797844
X-APPLE-STRUCTURED-LOCATION;VALUE=URI;X-ADDRESS=Wilhelm-Leger-Straße 2\, B
 iberach an der Riß\, Deutschland\, 88400\, Deutschland;X-APPLE-RADIUS=100
 ;X-TITLE=Dollinger Realschule:geo:48.091918,9.797844
END:VEVENT
BEGIN:VTIMEZONE
TZID:Europe/Berlin
X-LIC-LOCATION:Europe/Berlin
BEGIN:DAYLIGHT
DTSTART:20260329T030000
TZOFFSETFROM:+0100
TZOFFSETTO:+0200
TZNAME:CEST
END:DAYLIGHT
END:VTIMEZONE
END:VCALENDAR